BEGIN:VCALENDAR
VERSION:2.0
PRODID:icalendar-ruby
CALSCALE:GREGORIAN
METHOD:PUBLISH
BEGIN:VEVENT
DTSTAMP:20260423T084019Z
UID:124-1915663@mtzionlutheran.org
DTSTART:20261027T170000Z
DTEND:20261027T174500Z
CLASS:PUBLIC
CREATED:20260422T203221
DESCRIPTION:
LAST-MODIFIED:20260422T203221
LOCATION:Rm 211
SUMMARY:AA 12 Step Group
URL;VALUE=URI:https://mtzionlutheran.org/events/aa-12-step-group/2026-10-27
END:VEVENT
END:VCALENDAR
