BEGIN:VCALENDAR
VERSION:2.0
PRODID:icalendar-ruby
CALSCALE:GREGORIAN
METHOD:PUBLISH
BEGIN:VEVENT
DTSTAMP:20260424T140251Z
UID:85-1926781@mtzionlutheran.org
DTSTART:20261104T180000Z
DTEND:20261104T190000Z
CLASS:PUBLIC
CREATED:20260424T085627
DESCRIPTION:Brown Bag Bible Study is a weekly opportunity to gather in arou
 nd the Bible while enjoying our lunches. Pack your own lunch\, and then jo
 in us at Mt Zion while we dive into the Scripture lessons for the upcoming
  Sunday.\nYou can also attend via Zoom:\nMeeting ID: 841 6597 2335\nPassco
 de: 12012
LAST-MODIFIED:20260424T085627
LOCATION:Hearth Room
SUMMARY:Brown Bag Bible Study
URL;VALUE=URI:https://mtzionlutheran.org/events/brown-bag-bible-study/2026-
 11-04
ATTACH;FILENAME=Lamb of God.jpg;FMTTYPE=image/jpeg:https://dq5pwpg1q8ru0.cl
 oudfront.net/2023/06/08/11/03/15/00d6e388-0441-4ade-ab00-87d6ebc8ab92/Lamb
 %20of%20God.jpg
END:VEVENT
END:VCALENDAR
